BEGIN:VCALENDAR
VERSION:2.0
PRODID:-//wp-events-plugin.com//7.2.2.1//EN
TZID:Europe/Berlin
X-WR-TIMEZONE:Europe/Berlin
BEGIN:VEVENT
UID:3574@meinrosdorf.de
DTSTART;TZID=Europe/Berlin:20260724T183000
DTEND;TZID=Europe/Berlin:20260724T210000
DTSTAMP:20251017T110915Z
URL:https://meinrosdorf.de/events/spieleabend-im-familienzentrum-9/
SUMMARY:Spieleabend im Familienzentrum
DESCRIPTION:
ATTACH;FMTTYPE=image/jpeg:https://meinrosdorf.de/wp-content/uploads/2025/1
 0/2026.07.24.jpg
CATEGORIES:Veranstaltung
LOCATION:Familienzentrum Rosdorf\, Anne-Frank-Weg 2\, Rosdorf\, 37124\, Deu
 tschland
GEO:51.504861;9.904233
X-APPLE-STRUCTURED-LOCATION;VALUE=URI;X-ADDRESS=Anne-Frank-Weg 2\, Rosdorf\
 , 37124\, Deutschland;X-APPLE-RADIUS=100;X-TITLE=Familienzentrum Rosdorf:g
 eo:51.504861,9.904233
END:VEVENT
BEGIN:VTIMEZONE
TZID:Europe/Berlin
X-LIC-LOCATION:Europe/Berlin
BEGIN:DAYLIGHT
DTSTART:20260329T030000
TZOFFSETFROM:+0100
TZOFFSETTO:+0200
TZNAME:CEST
END:DAYLIGHT
END:VTIMEZONE
END:VCALENDAR