BEGIN:VCALENDAR
VERSION:2.0
PRODID:-//wp-events-plugin.com//7.2.2.1//EN
TZID:Europe/Berlin
X-WR-TIMEZONE:Europe/Berlin
BEGIN:VEVENT
UID:241@meinrosdorf.de
DTSTART;TZID=Europe/Berlin:20291107T153000
DTEND;TZID=Europe/Berlin:20291107T180000
DTSTAMP:20250513T225700Z
URL:https://meinrosdorf.de/events/spielcafe-laterna-magica-fuer-menschen-m
 it-und-ohne-kindern-2029-11-07/
SUMMARY:Spielcafé Laterna Magica - für Menschen mit und ohne Kinder
DESCRIPTION:Das Spielcafé ist ein Ort\, um sich auszutauschen und Menschen
  kennenzulernen. Es bietet Getränke und Snacks\, Gesellschaftsspiele (mit
  Beratung und Erklärung für Kinder ab zwei Jahren)\, Bastelaktionen\, Sp
 ielmöglichkeiten auf dem Schulhof\, Lego Duplo und Spielzeug für die Kle
 insten und immer die Möglichkeit für ein nettes Gespräch und den Austau
 sch untereinander.
ATTACH;FMTTYPE=image/jpeg:https://meinrosdorf.de/wp-content/uploads/2025/0
 5/Flyer-Spielcafe-Laterna-Magica.jpg
CATEGORIES:Veranstaltung
LOCATION:Mensa der Heinrich-Grupe-Schule Rosdorf\, Lange Starße 17\, Rosdo
 rf\, 37124\, Deutschland
GEO:51.504079;9.901376
X-APPLE-STRUCTURED-LOCATION;VALUE=URI;X-ADDRESS=Lange Starße 17\, Rosdorf\
 , 37124\, Deutschland;X-APPLE-RADIUS=100;X-TITLE=Mensa der Heinrich-Grupe-
 Schule Rosdorf:geo:51.504079,9.901376
END:VEVENT
BEGIN:VTIMEZONE
TZID:Europe/Berlin
X-LIC-LOCATION:Europe/Berlin
BEGIN:STANDARD
DTSTART:20291028T020000
TZOFFSETFROM:+0200
TZOFFSETTO:+0100
TZNAME:CET
END:STANDARD
END:VTIMEZONE
END:VCALENDAR