BEGIN:VCALENDAR
VERSION:2.0
PRODID:-//wp-events-plugin.com//7.2.2.1//EN
TZID:Europe/Berlin
X-WR-TIMEZONE:Europe/Berlin
BEGIN:VEVENT
UID:185@meinrosdorf.de
DTSTART;TZID=Europe/Berlin:20281011T153000
DTEND;TZID=Europe/Berlin:20281011T180000
DTSTAMP:20250513T225700Z
URL:https://meinrosdorf.de/events/spielcafe-laterna-magica-fuer-menschen-m
 it-und-ohne-kindern-2028-10-11/
SUMMARY:Spielcafé Laterna Magica - für Menschen mit und ohne Kinder
DESCRIPTION:Das Spielcafé ist ein Ort\, um sich auszutauschen und Menschen
  kennenzulernen. Es bietet Getränke und Snacks\, Gesellschaftsspiele (mit
  Beratung und Erklärung für Kinder ab zwei Jahren)\, Bastelaktionen\, Sp
 ielmöglichkeiten auf dem Schulhof\, Lego Duplo und Spielzeug für die Kle
 insten und immer die Möglichkeit für ein nettes Gespräch und den Austau
 sch untereinander.
ATTACH;FMTTYPE=image/jpeg:https://meinrosdorf.de/wp-content/uploads/2025/0
 5/Flyer-Spielcafe-Laterna-Magica.jpg
CATEGORIES:Veranstaltung
LOCATION:Mensa der Heinrich-Grupe-Schule Rosdorf\, Lange Starße 17\, Rosdo
 rf\, 37124\, Deutschland
GEO:51.504079;9.901376
X-APPLE-STRUCTURED-LOCATION;VALUE=URI;X-ADDRESS=Lange Starße 17\, Rosdorf\
 , 37124\, Deutschland;X-APPLE-RADIUS=100;X-TITLE=Mensa der Heinrich-Grupe-
 Schule Rosdorf:geo:51.504079,9.901376
END:VEVENT
BEGIN:VTIMEZONE
TZID:Europe/Berlin
X-LIC-LOCATION:Europe/Berlin
BEGIN:DAYLIGHT
DTSTART:20280326T030000
TZOFFSETFROM:+0100
TZOFFSETTO:+0200
TZNAME:CEST
END:DAYLIGHT
END:VTIMEZONE
END:VCALENDAR